Package: spicyR Version: 1.19.3 Command: /Library/Frameworks/R.framework/Resources/bin/R CMD INSTALL spicyR StartedAt: 2025-02-09 15:44:35 -0500 (Sun, 09 Feb 2025) EndedAt: 2025-02-09 15:45:26 -0500 (Sun, 09 Feb 2025) EllapsedTime: 51.5 seconds RetCode: 0 Status: OK