Package: spicyR Version: 1.19.3 Command: /home/biocbuild/bbs-3.21-bioc/R/bin/R CMD build --keep-empty-dirs --no-resave-data spicyR StartedAt: 2025-02-12 19:21:43 -0500 (Wed, 12 Feb 2025) EndedAt: 2025-02-12 19:26:31 -0500 (Wed, 12 Feb 2025) EllapsedTime: 288.4 seconds RetCode: 0 Status: OK PackageFile: spicyR_1.19.3.tar.gz PackageFileSize: 3.158 MiB