Package: spicyR Version: 1.19.3 Command: /home/biocbuild/bbs-3.21-bioc/R/bin/R CMD INSTALL spicyR StartedAt: 2025-02-09 15:36:35 -0500 (Sun, 09 Feb 2025) EndedAt: 2025-02-09 15:37:13 -0500 (Sun, 09 Feb 2025) EllapsedTime: 37.7 seconds RetCode: 0 Status: OK