Package: spicyR Version: 1.19.3 Command: rm -rf spicyR.buildbin-libdir && mkdir spicyR.buildbin-libdir && E:\biocbuild\bbs-3.21-bioc\R\bin\R.exe CMD INSTALL --build --library=spicyR.buildbin-libdir spicyR_1.19.3.tar.gz StartedAt: 2025-02-10 08:47:32 -0500 (Mon, 10 Feb 2025) EndedAt: 2025-02-10 08:48:18 -0500 (Mon, 10 Feb 2025) EllapsedTime: 46.4 seconds RetCode: 0 Status: OK PackageFile: spicyR_1.19.3.zip PackageFileSize: 3.076 MiB