Package: spkTools Version: 1.63.0 Command: rm -rf spkTools.buildbin-libdir && mkdir spkTools.buildbin-libdir && /Users/biocbuild/BBS/utils/build-universal.sh spkTools_1.63.0.tar.gz /Library/Frameworks/R.framework/Resources/bin/R spkTools.buildbin-libdir StartedAt: 2025-02-09 22:32:13 -0500 (Sun, 09 Feb 2025) EndedAt: 2025-02-09 22:32:16 -0500 (Sun, 09 Feb 2025) EllapsedTime: 3.1 seconds RetCode: 0 Status: OK PackageFile: spkTools_1.63.0.tgz PackageFileSize: 840.6 KiB