Package: spkTools Version: 1.63.0 Command: /Library/Frameworks/R.framework/Resources/bin/R CMD check --install=check:spkTools.install-out.txt --library=/Library/Frameworks/R.framework/Resources/library --no-vignettes --timings spkTools_1.63.0.tar.gz StartedAt: 2025-02-09 21:33:26 -0500 (Sun, 09 Feb 2025) EndedAt: 2025-02-09 21:34:11 -0500 (Sun, 09 Feb 2025) EllapsedTime: 45.5 seconds RetCode: 0 Status: OK CheckDir: spkTools.Rcheck Warnings: 0