Package: spkTools Version: 1.63.0 Command: rm -rf spkTools.buildbin-libdir && mkdir spkTools.buildbin-libdir && /Users/biocbuild/BBS/utils/build-universal.sh spkTools_1.63.0.tar.gz /Library/Frameworks/R.framework/Resources/bin/R spkTools.buildbin-libdir StartedAt: 2025-02-10 01:18:38 -0500 (Mon, 10 Feb 2025) EndedAt: 2025-02-10 01:18:47 -0500 (Mon, 10 Feb 2025) EllapsedTime: 8.2 seconds RetCode: 0 Status: OK PackageFile: spkTools_1.63.0.tgz PackageFileSize: 839.4 KiB