Package: spkTools Version: 1.63.0 Command: rm -rf spkTools.buildbin-libdir && mkdir spkTools.buildbin-libdir && E:\biocbuild\bbs-3.21-bioc\R\bin\R.exe CMD INSTALL --build --library=spkTools.buildbin-libdir spkTools_1.63.0.tar.gz StartedAt: 2025-02-10 08:47:38 -0500 (Mon, 10 Feb 2025) EndedAt: 2025-02-10 08:47:57 -0500 (Mon, 10 Feb 2025) EllapsedTime: 18.5 seconds RetCode: 0 Status: OK PackageFile: spkTools_1.63.0.zip PackageFileSize: 719.2 KiB