Package: spkTools Version: 1.63.0 Command: chmod a+r spkTools -R && E:\biocbuild\bbs-3.21-bioc\R\bin\R.exe CMD build --keep-empty-dirs --no-resave-data spkTools StartedAt: 2025-02-09 21:51:34 -0500 (Sun, 09 Feb 2025) EndedAt: 2025-02-09 21:52:01 -0500 (Sun, 09 Feb 2025) EllapsedTime: 27.9 seconds RetCode: 0 Status: OK PackageFile: spkTools_1.63.0.tar.gz PackageFileSize: 541.5 KiB