Package: splatter Version: 1.31.0 Command: /home/biocbuild/R/R/bin/R CMD build --keep-empty-dirs --no-resave-data splatter StartedAt: 2025-01-28 02:41:02 -0000 (Tue, 28 Jan 2025) EndedAt: 2025-01-28 02:45:45 -0000 (Tue, 28 Jan 2025) EllapsedTime: 283.1 seconds RetCode: 0 Status: OK PackageFile: splatter_1.31.0.tar.gz PackageFileSize: 4.477 MiB