Package: splatter Version: 1.31.0 Command: /home/biocbuild/R/R/bin/R CMD check --install=check:splatter.install-out.txt --library=/home/biocbuild/R/R/site-library --no-vignettes --timings splatter_1.31.0.tar.gz StartedAt: 2025-01-28 15:40:29 -0000 (Tue, 28 Jan 2025) EndedAt: 2025-01-28 15:51:13 -0000 (Tue, 28 Jan 2025) EllapsedTime: 644.8 seconds RetCode: 0 Status: OK CheckDir: splatter.Rcheck Warnings: 0