Package: splatter Version: 1.31.0 Command: rm -rf splatter.buildbin-libdir && mkdir splatter.buildbin-libdir && /Users/biocbuild/BBS/utils/build-universal.sh splatter_1.31.0.tar.gz /Library/Frameworks/R.framework/Resources/bin/R splatter.buildbin-libdir StartedAt: 2025-02-04 00:58:39 -0500 (Tue, 04 Feb 2025) EndedAt: 2025-02-04 00:59:23 -0500 (Tue, 04 Feb 2025) EllapsedTime: 44.2 seconds RetCode: 0 Status: OK PackageFile: splatter_1.31.0.tgz PackageFileSize: 7.083 MiB