Package: splatter Version: 1.31.0 Command: /Library/Frameworks/R.framework/Resources/bin/R CMD check --install=check:splatter.install-out.txt --library=/Library/Frameworks/R.framework/Resources/library --no-vignettes --timings splatter_1.31.0.tar.gz StartedAt: 2025-02-03 23:34:00 -0500 (Mon, 03 Feb 2025) EndedAt: 2025-02-03 23:41:49 -0500 (Mon, 03 Feb 2025) EllapsedTime: 468.9 seconds RetCode: 0 Status: OK CheckDir: splatter.Rcheck Warnings: 0