Package: splatter Version: 1.31.0 Command: /home/biocbuild/bbs-3.21-bioc/R/bin/R CMD check --install=check:splatter.install-out.txt --library=/home/biocbuild/bbs-3.21-bioc/R/site-library --timings splatter_1.31.0.tar.gz StartedAt: 2025-02-05 03:06:47 -0500 (Wed, 05 Feb 2025) EndedAt: 2025-02-05 03:16:46 -0500 (Wed, 05 Feb 2025) EllapsedTime: 599.7 seconds RetCode: 0 Status: OK CheckDir: splatter.Rcheck Warnings: 0