Package: splatter Version: 1.31.0 Command: /home/biocbuild/bbs-3.21-bioc/R/bin/R CMD INSTALL splatter StartedAt: 2025-02-04 15:20:17 -0500 (Tue, 04 Feb 2025) EndedAt: 2025-02-04 15:20:46 -0500 (Tue, 04 Feb 2025) EllapsedTime: 29.2 seconds RetCode: 0 Status: OK