Package: splatter Version: 1.31.0 Command: rm -rf splatter.buildbin-libdir && mkdir splatter.buildbin-libdir && E:\biocbuild\bbs-3.21-bioc\R\bin\R.exe CMD INSTALL --build --library=splatter.buildbin-libdir splatter_1.31.0.tar.gz StartedAt: 2025-02-10 08:47:40 -0500 (Mon, 10 Feb 2025) EndedAt: 2025-02-10 08:48:48 -0500 (Mon, 10 Feb 2025) EllapsedTime: 68.2 seconds RetCode: 0 Status: OK PackageFile: splatter_1.31.0.zip PackageFileSize: 3.391 MiB