Package: splineTimeR Version: 1.35.0 Command: /Library/Frameworks/R.framework/Resources/bin/R CMD check --install=check:splineTimeR.install-out.txt --library=/Library/Frameworks/R.framework/Resources/library --no-vignettes --timings splineTimeR_1.35.0.tar.gz StartedAt: 2025-02-09 21:34:47 -0500 (Sun, 09 Feb 2025) EndedAt: 2025-02-09 21:35:43 -0500 (Sun, 09 Feb 2025) EllapsedTime: 55.6 seconds RetCode: 0 Status: OK CheckDir: splineTimeR.Rcheck Warnings: 0