Package: splineTimeR Version: 1.35.0 Command: /home/biocbuild/bbs-3.21-bioc/R/bin/R CMD build --keep-empty-dirs --no-resave-data splineTimeR StartedAt: 2025-02-09 19:26:06 -0500 (Sun, 09 Feb 2025) EndedAt: 2025-02-09 19:26:46 -0500 (Sun, 09 Feb 2025) EllapsedTime: 40.0 seconds RetCode: 0 Status: OK PackageFile: splineTimeR_1.35.0.tar.gz PackageFileSize: 1.226 MiB