Package: splineTimeR Version: 1.35.0 Command: rm -rf splineTimeR.buildbin-libdir && mkdir splineTimeR.buildbin-libdir && E:\biocbuild\bbs-3.21-bioc\R\bin\R.exe CMD INSTALL --build --library=splineTimeR.buildbin-libdir splineTimeR_1.35.0.tar.gz StartedAt: 2025-02-10 08:47:47 -0500 (Mon, 10 Feb 2025) EndedAt: 2025-02-10 08:48:07 -0500 (Mon, 10 Feb 2025) EllapsedTime: 19.3 seconds RetCode: 0 Status: OK PackageFile: splineTimeR_1.35.0.zip PackageFileSize: 1.149 MiB