Package: splineTimeR Version: 1.35.0 Command: chmod a+r splineTimeR -R && E:\biocbuild\bbs-3.21-bioc\R\bin\R.exe CMD build --keep-empty-dirs --no-resave-data splineTimeR StartedAt: 2025-02-12 22:00:20 -0500 (Wed, 12 Feb 2025) EndedAt: 2025-02-12 22:01:24 -0500 (Wed, 12 Feb 2025) EllapsedTime: 63.5 seconds RetCode: 0 Status: OK PackageFile: splineTimeR_1.35.0.tar.gz PackageFileSize: 1.102 MiB