Package: splots Version: 1.73.0 Command: rm -rf splots.buildbin-libdir && mkdir splots.buildbin-libdir && /Users/biocbuild/BBS/utils/build-universal.sh splots_1.73.0.tar.gz /Library/Frameworks/R.framework/Resources/bin/R splots.buildbin-libdir StartedAt: 2025-02-09 22:32:16 -0500 (Sun, 09 Feb 2025) EndedAt: 2025-02-09 22:32:18 -0500 (Sun, 09 Feb 2025) EllapsedTime: 2.0 seconds RetCode: 0 Status: OK PackageFile: splots_1.73.0.tgz PackageFileSize: 724 KiB