Package: splots Version: 1.73.0 Command: /Library/Frameworks/R.framework/Resources/bin/R CMD build --keep-empty-dirs --no-resave-data splots StartedAt: 2025-02-09 17:43:09 -0500 (Sun, 09 Feb 2025) EndedAt: 2025-02-09 17:43:34 -0500 (Sun, 09 Feb 2025) EllapsedTime: 25.3 seconds RetCode: 0 Status: OK PackageFile: splots_1.73.0.tar.gz PackageFileSize: 706.2 KiB