Package: splots Version: 1.73.0 Command: /Library/Frameworks/R.framework/Resources/bin/R CMD INSTALL splots StartedAt: 2025-02-09 15:02:01 -0500 (Sun, 09 Feb 2025) EndedAt: 2025-02-09 15:02:04 -0500 (Sun, 09 Feb 2025) EllapsedTime: 2.8 seconds RetCode: 0 Status: OK