Package: splots Version: 1.73.0 Command: /home/biocbuild/R/R/bin/R CMD INSTALL splots StartedAt: 2025-01-29 19:32:14 -0000 (Wed, 29 Jan 2025) EndedAt: 2025-01-29 19:32:36 -0000 (Wed, 29 Jan 2025) EllapsedTime: 21.5 seconds RetCode: 0 Status: OK