Package: splots Version: 1.73.0 Command: chmod a+r splots -R && E:\biocbuild\bbs-3.21-bioc\R\bin\R.exe CMD build --keep-empty-dirs --no-resave-data splots StartedAt: 2025-02-09 21:53:10 -0500 (Sun, 09 Feb 2025) EndedAt: 2025-02-09 21:55:34 -0500 (Sun, 09 Feb 2025) EllapsedTime: 143.8 seconds RetCode: 0 Status: OK PackageFile: splots_1.73.0.tar.gz PackageFileSize: 482.5 KiB