Package: splots Version: 1.73.0 Command: E:\biocbuild\bbs-3.21-bioc\R\bin\R.exe CMD check --no-multiarch --install=check:splots.install-out.txt --library=E:\biocbuild\bbs-3.21-bioc\R\library --no-vignettes --timings splots_1.73.0.tar.gz StartedAt: 2025-02-10 05:49:25 -0500 (Mon, 10 Feb 2025) EndedAt: 2025-02-10 05:49:50 -0500 (Mon, 10 Feb 2025) EllapsedTime: 25.0 seconds RetCode: 0 Status: OK CheckDir: splots.Rcheck Warnings: 0