Package: spqn Version: 1.19.0 Command: /Library/Frameworks/R.framework/Resources/bin/R CMD build --keep-empty-dirs --no-resave-data spqn StartedAt: 2025-02-04 17:43:53 -0500 (Tue, 04 Feb 2025) EndedAt: 2025-02-04 17:44:33 -0500 (Tue, 04 Feb 2025) EllapsedTime: 40.5 seconds RetCode: 0 Status: OK PackageFile: spqn_1.19.0.tar.gz PackageFileSize: 2.807 MiB