Package: spqn Version: 1.19.0 Command: /Library/Frameworks/R.framework/Resources/bin/R CMD check --install=check:spqn.install-out.txt --library=/Library/Frameworks/R.framework/Resources/library --no-vignettes --timings spqn_1.19.0.tar.gz StartedAt: 2025-02-04 21:37:03 -0500 (Tue, 04 Feb 2025) EndedAt: 2025-02-04 21:38:30 -0500 (Tue, 04 Feb 2025) EllapsedTime: 87.0 seconds RetCode: 0 Status: OK CheckDir: spqn.Rcheck Warnings: 0