Package: spqn Version: 1.19.0 Command: /Library/Frameworks/R.framework/Resources/bin/R CMD INSTALL spqn StartedAt: 2025-02-04 15:06:51 -0500 (Tue, 04 Feb 2025) EndedAt: 2025-02-04 15:07:01 -0500 (Tue, 04 Feb 2025) EllapsedTime: 10.0 seconds RetCode: 0 Status: OK