Package: spqn Version: 1.19.0 Command: /home/biocbuild/R/R/bin/R CMD check --install=check:spqn.install-out.txt --library=/home/biocbuild/R/R/site-library --no-vignettes --timings spqn_1.19.0.tar.gz StartedAt: 2025-01-28 15:44:01 -0000 (Tue, 28 Jan 2025) EndedAt: 2025-01-28 16:11:39 -0000 (Tue, 28 Jan 2025) EllapsedTime: 1658.3 seconds RetCode: 0 Status: OK CheckDir: spqn.Rcheck Warnings: 0