Package: spqn Version: 1.19.0 Command: rm -rf spqn.buildbin-libdir && mkdir spqn.buildbin-libdir && /Users/biocbuild/BBS/utils/build-universal.sh spqn_1.19.0.tar.gz /Library/Frameworks/R.framework/Resources/bin/R spqn.buildbin-libdir StartedAt: 2025-02-04 00:58:46 -0500 (Tue, 04 Feb 2025) EndedAt: 2025-02-04 00:59:19 -0500 (Tue, 04 Feb 2025) EllapsedTime: 32.5 seconds RetCode: 0 Status: OK PackageFile: spqn_1.19.0.tgz PackageFileSize: 2.835 MiB