Package: spqn Version: 1.19.0 Command: /Library/Frameworks/R.framework/Resources/bin/R CMD check --install=check:spqn.install-out.txt --library=/Library/Frameworks/R.framework/Resources/library --no-vignettes --timings spqn_1.19.0.tar.gz StartedAt: 2025-02-09 23:53:05 -0500 (Sun, 09 Feb 2025) EndedAt: 2025-02-09 23:57:06 -0500 (Sun, 09 Feb 2025) EllapsedTime: 241.4 seconds RetCode: 0 Status: OK CheckDir: spqn.Rcheck Warnings: 0