Package: spqn Version: 1.19.0 Command: /home/biocbuild/bbs-3.21-bioc/R/bin/R CMD build --keep-empty-dirs --no-resave-data spqn StartedAt: 2025-02-09 19:27:46 -0500 (Sun, 09 Feb 2025) EndedAt: 2025-02-09 19:29:18 -0500 (Sun, 09 Feb 2025) EllapsedTime: 92.2 seconds RetCode: 0 Status: OK PackageFile: spqn_1.19.0.tar.gz PackageFileSize: 2.878 MiB