Package: spqn Version: 1.19.0 Command: /home/biocbuild/bbs-3.21-bioc/R/bin/R CMD check --install=check:spqn.install-out.txt --library=/home/biocbuild/bbs-3.21-bioc/R/site-library --timings spqn_1.19.0.tar.gz StartedAt: 2025-02-10 03:02:44 -0500 (Mon, 10 Feb 2025) EndedAt: 2025-02-10 03:07:33 -0500 (Mon, 10 Feb 2025) EllapsedTime: 288.4 seconds RetCode: 0 Status: OK CheckDir: spqn.Rcheck Warnings: 0