Package: spqn Version: 1.19.0 Command: chmod a+r spqn -R && E:\biocbuild\bbs-3.21-bioc\R\bin\R.exe CMD build --keep-empty-dirs --no-resave-data spqn StartedAt: 2025-02-09 21:54:34 -0500 (Sun, 09 Feb 2025) EndedAt: 2025-02-09 21:57:18 -0500 (Sun, 09 Feb 2025) EllapsedTime: 163.6 seconds RetCode: 0 Status: OK PackageFile: spqn_1.19.0.tar.gz PackageFileSize: 2.251 MiB