Package: spqn Version: 1.19.0 Command: E:\biocbuild\bbs-3.21-bioc\R\bin\R.exe CMD INSTALL spqn StartedAt: 2025-02-03 16:45:15 -0500 (Mon, 03 Feb 2025) EndedAt: 2025-02-03 16:45:42 -0500 (Mon, 03 Feb 2025) EllapsedTime: 27.0 seconds RetCode: 0 Status: OK