Package: ssize Version: 1.81.0 Command: /Library/Frameworks/R.framework/Resources/bin/R CMD build --keep-empty-dirs --no-resave-data ssize StartedAt: 2025-02-09 17:44:19 -0500 (Sun, 09 Feb 2025) EndedAt: 2025-02-09 17:44:23 -0500 (Sun, 09 Feb 2025) EllapsedTime: 4.0 seconds RetCode: 0 Status: OK PackageFile: ssize_1.81.0.tar.gz PackageFileSize: 545.3 KiB