Package: ssize Version: 1.81.0 Command: /home/biocbuild/R/R/bin/R CMD build --keep-empty-dirs --no-resave-data ssize StartedAt: 2025-01-28 02:44:53 -0000 (Tue, 28 Jan 2025) EndedAt: 2025-01-28 02:45:02 -0000 (Tue, 28 Jan 2025) EllapsedTime: 9.0 seconds RetCode: 0 Status: OK PackageFile: ssize_1.81.0.tar.gz PackageFileSize: 544 KiB