Package: ssize Version: 1.81.0 Command: /home/biocbuild/R/R/bin/R CMD INSTALL ssize StartedAt: 2025-01-29 19:30:25 -0000 (Wed, 29 Jan 2025) EndedAt: 2025-01-29 19:30:50 -0000 (Wed, 29 Jan 2025) EllapsedTime: 24.5 seconds RetCode: 0 Status: OK