Package: ssize Version: 1.81.0 Command: rm -rf ssize.buildbin-libdir && mkdir ssize.buildbin-libdir && /Users/biocbuild/BBS/utils/build-universal.sh ssize_1.81.0.tar.gz /Library/Frameworks/R.framework/Resources/bin/R ssize.buildbin-libdir StartedAt: 2025-02-13 01:01:15 -0500 (Thu, 13 Feb 2025) EndedAt: 2025-02-13 01:01:20 -0500 (Thu, 13 Feb 2025) EllapsedTime: 4.6 seconds RetCode: 0 Status: OK PackageFile: ssize_1.81.0.tgz PackageFileSize: 536.2 KiB