Package: ssize Version: 1.81.0 Command: /Library/Frameworks/R.framework/Resources/bin/R CMD INSTALL ssize StartedAt: 2025-02-09 15:03:58 -0500 (Sun, 09 Feb 2025) EndedAt: 2025-02-09 15:04:33 -0500 (Sun, 09 Feb 2025) EllapsedTime: 35.0 seconds RetCode: 0 Status: OK