Package: ssrch Version: 1.23.0 Command: rm -rf ssrch.buildbin-libdir && mkdir ssrch.buildbin-libdir && /Users/biocbuild/BBS/utils/build-universal.sh ssrch_1.23.0.tar.gz /Library/Frameworks/R.framework/Resources/bin/R ssrch.buildbin-libdir StartedAt: 2025-02-12 22:37:41 -0500 (Wed, 12 Feb 2025) EndedAt: 2025-02-12 22:37:44 -0500 (Wed, 12 Feb 2025) EllapsedTime: 3.1 seconds RetCode: 0 Status: OK PackageFile: ssrch_1.23.0.tgz PackageFileSize: 1.386 MiB