Package: ssrch Version: 1.23.0 Command: /home/biocbuild/R/R/bin/R CMD build --keep-empty-dirs --no-resave-data ssrch StartedAt: 2025-01-28 02:45:14 -0000 (Tue, 28 Jan 2025) EndedAt: 2025-01-28 02:45:25 -0000 (Tue, 28 Jan 2025) EllapsedTime: 11.0 seconds RetCode: 0 Status: OK PackageFile: ssrch_1.23.0.tar.gz PackageFileSize: 1.499 MiB