Package: ssrch Version: 1.23.0 Command: /home/biocbuild/R/R/bin/R CMD check --install=check:ssrch.install-out.txt --library=/home/biocbuild/R/R/site-library --no-vignettes --timings ssrch_1.23.0.tar.gz StartedAt: 2025-01-28 15:48:59 -0000 (Tue, 28 Jan 2025) EndedAt: 2025-01-28 15:49:30 -0000 (Tue, 28 Jan 2025) EllapsedTime: 31.0 seconds RetCode: 0 Status: OK CheckDir: ssrch.Rcheck Warnings: 0