Package: ssrch Version: 1.23.0 Command: /Library/Frameworks/R.framework/Resources/bin/R CMD build --keep-empty-dirs --no-resave-data ssrch StartedAt: 2025-02-09 18:37:45 -0500 (Sun, 09 Feb 2025) EndedAt: 2025-02-09 18:37:58 -0500 (Sun, 09 Feb 2025) EllapsedTime: 12.6 seconds RetCode: 0 Status: OK PackageFile: ssrch_1.23.0.tar.gz PackageFileSize: 1.444 MiB