Package: ssrch Version: 1.23.0 Command: /home/biocbuild/bbs-3.21-bioc/R/bin/R CMD INSTALL ssrch StartedAt: 2025-02-09 15:07:42 -0500 (Sun, 09 Feb 2025) EndedAt: 2025-02-09 15:08:16 -0500 (Sun, 09 Feb 2025) EllapsedTime: 34.0 seconds RetCode: 0 Status: OK