Package: ssviz Version: 1.41.0 Command: /home/biocbuild/R/R/bin/R CMD check --install=check:ssviz.install-out.txt --library=/home/biocbuild/R/R/site-library --no-vignettes --timings ssviz_1.41.0.tar.gz StartedAt: 2025-01-28 15:49:07 -0000 (Tue, 28 Jan 2025) EndedAt: 2025-01-28 15:51:55 -0000 (Tue, 28 Jan 2025) EllapsedTime: 168.3 seconds RetCode: 0 Status: OK CheckDir: ssviz.Rcheck Warnings: 0