Package: ssviz Version: 1.41.0 Command: rm -rf ssviz.buildbin-libdir && mkdir ssviz.buildbin-libdir && /Users/biocbuild/BBS/utils/build-universal.sh ssviz_1.41.0.tar.gz /Library/Frameworks/R.framework/Resources/bin/R ssviz.buildbin-libdir StartedAt: 2025-02-10 01:19:02 -0500 (Mon, 10 Feb 2025) EndedAt: 2025-02-10 01:19:24 -0500 (Mon, 10 Feb 2025) EllapsedTime: 22.1 seconds RetCode: 0 Status: OK PackageFile: ssviz_1.41.0.tgz PackageFileSize: 1.113 MiB