Package: ssviz Version: 1.41.0 Command: /Library/Frameworks/R.framework/Resources/bin/R CMD INSTALL ssviz StartedAt: 2025-02-09 15:22:35 -0500 (Sun, 09 Feb 2025) EndedAt: 2025-02-09 15:22:57 -0500 (Sun, 09 Feb 2025) EllapsedTime: 21.0 seconds RetCode: 0 Status: OK