Package: ssviz Version: 1.41.0 Command: /home/biocbuild/bbs-3.21-bioc/R/bin/R CMD check --install=check:ssviz.install-out.txt --library=/home/biocbuild/bbs-3.21-bioc/R/site-library --timings ssviz_1.41.0.tar.gz StartedAt: 2025-02-10 03:07:18 -0500 (Mon, 10 Feb 2025) EndedAt: 2025-02-10 03:09:20 -0500 (Mon, 10 Feb 2025) EllapsedTime: 122.2 seconds RetCode: 0 Status: OK CheckDir: ssviz.Rcheck Warnings: 0